BEGIN:VCALENDAR
VERSION:2.0
PRODID:-//CoTIA - ECPv6.5.0.1//NONSGML v1.0//EN
CALSCALE:GREGORIAN
METHOD:PUBLISH
X-ORIGINAL-URL:https://cotia.tg
X-WR-CALDESC:évènements pour CoTIA
REFRESH-INTERVAL;VALUE=DURATION:PT1H
X-Robots-Tag:noindex
X-PUBLISHED-TTL:PT1H
BEGIN:VTIMEZONE
TZID:America/New_York
BEGIN:DAYLIGHT
TZOFFSETFROM:-0500
TZOFFSETTO:-0400
TZNAME:EDT
DTSTART:20250309T070000
END:DAYLIGHT
BEGIN:STANDARD
TZOFFSETFROM:-0400
TZOFFSETTO:-0500
TZNAME:EST
DTSTART:20251102T060000
END:STANDARD
END:VTIMEZONE
BEGIN:VEVENT
DTSTART;TZID=America/New_York:20250517T073000
DTEND;TZID=America/New_York:20250517T180000
DTSTAMP:20260425T204005
CREATED:20240719T154802Z
LAST-MODIFIED:20250821T195057Z
UID:4240-1747467000-1747504800@cotia.tg
SUMMARY:L’Intelligence Artificielle au Service de la Médecine : Un Séminaire Incontournable
DESCRIPTION:Contexte\nFace aux défis structurels du système de santé au Togo – manque de médecins\, accès inégal aux soins\, surcharge des tâches administratives –\nl’intelligence artificielle (IA) apparaît comme un levier d’innovation.\nElle peut répondre à des besoins concrets : automatisation de diagnostics\, téléconsultation\, exploitation des données sanitaires\, optimisation des décisions médicales.\nMais son intégration doit être locale\, éthique et respectueuse des contextes sociaux et culturels.\nC’est dans cette optique qu’un séminaire national a réuni professionnels de santé\, chercheurs\, développeurs\, décideurs publics et société civile. \nObjectifs\n\nPrésenter des projets concrets d’IA appliqués à la santé au Togo\nFavoriser le dialogue interdisciplinaire entre chercheurs\, praticiens\, institutions et développeurs\nIdentifier les freins techniques\, éthiques et structurels à l’adoption de ces technologies\nDéfinir les premières étapes vers une stratégie nationale d’intégration de l’IA en santé\n\nTemps forts\nOuverture officielle : mot d’accueil de CoTIA et HISP WCA\, allocutions institutionnelles et présentation du programme.\nConférence plénière : introduction pédagogique à l’IA médicale\, ses potentialités et ses enjeux éthiques. Focus sur l’importance de l’interprétabilité et de la souveraineté des données pour les pays à faibles ressources. \nProjets techniques présentés\n\nDiagnostic du cancer de la prostate : algorithmes supervisés pour la détection précoce. (PIDJARE Séverin & DJERADE-GOLBE Parfait)\nPrédiction du paludisme : modèles sur données épidémiologiques locales pour anticiper les pics. (YENDONGOU Damtoti)\nProjet OmniMed : plateforme de diagnostic assisté et téléconsultation adaptée au terrain. (Franck Adenyo)\nPlateforme BERIIA : carnet de santé numérique intégrant des modules d’IA. Testé dans des centres périphériques.\n\nPanels & discussions thématiques\n\nClimat et santé : lien entre variables climatiques et maladies infectieuses. (Jean KOUSSAWO)\nSouveraineté des données : panel animé par Djamila DILLE sur la régulation et l’alignement au RGPD adapté au Togo.\nMultilinguisme médical : prototype RAG pour recommandations médicales en langues locales. (Samuel AFOLA)\nAutomatisation DHIS2 : amélioration de l’analyse des données de santé. (Caleb ADOLGI)\n\nRésultats clés\n\nValorisation des talents locaux capables de développer des solutions IA adaptées au système de santé togolais\nMise en lumière de projets suffisamment matures pour des tests pilotes\nPrise de conscience de la nécessité d’un cadre éthique\, réglementaire et technique\nProposition de création d’un groupe de travail pour structurer la suite des actions
URL:https://cotia.tg/event/lintelligence-artificielle-au-service-de-la-medecine/
CATEGORIES:Conference
ATTACH;FMTTYPE=image/png:https://cotia.tg/wp-content/uploads/2024/07/SEMINAIRE-LINTELLIGENCE-ARTIFICIELLE-AU-SERVICE-DE-LA-SANTE.png
END:VEVENT
END:VCALENDAR