BEGIN:VCALENDAR
VERSION:2.0
PRODID:-//CoTIA - ECPv6.5.0.1//NONSGML v1.0//EN
CALSCALE:GREGORIAN
METHOD:PUBLISH
X-ORIGINAL-URL:https://cotia.tg
X-WR-CALDESC:évènements pour CoTIA
REFRESH-INTERVAL;VALUE=DURATION:PT1H
X-Robots-Tag:noindex
X-PUBLISHED-TTL:PT1H
BEGIN:VTIMEZONE
TZID:Europe/Paris
BEGIN:DAYLIGHT
TZOFFSETFROM:+0100
TZOFFSETTO:+0200
TZNAME:CEST
DTSTART:20230326T010000
END:DAYLIGHT
BEGIN:STANDARD
TZOFFSETFROM:+0200
TZOFFSETTO:+0100
TZNAME:CET
DTSTART:20231029T010000
END:STANDARD
BEGIN:DAYLIGHT
TZOFFSETFROM:+0100
TZOFFSETTO:+0200
TZNAME:CEST
DTSTART:20240331T010000
END:DAYLIGHT
BEGIN:STANDARD
TZOFFSETFROM:+0200
TZOFFSETTO:+0100
TZNAME:CET
DTSTART:20241027T010000
END:STANDARD
BEGIN:DAYLIGHT
TZOFFSETFROM:+0100
TZOFFSETTO:+0200
TZNAME:CEST
DTSTART:20250330T010000
END:DAYLIGHT
BEGIN:STANDARD
TZOFFSETFROM:+0200
TZOFFSETTO:+0100
TZNAME:CET
DTSTART:20251026T010000
END:STANDARD
TZID:America/New_York
BEGIN:DAYLIGHT
TZOFFSETFROM:-0500
TZOFFSETTO:-0400
TZNAME:EDT
DTSTART:20210314T070000
END:DAYLIGHT
BEGIN:STANDARD
TZOFFSETFROM:-0400
TZOFFSETTO:-0500
TZNAME:EST
DTSTART:20211107T060000
END:STANDARD
BEGIN:DAYLIGHT
TZOFFSETFROM:-0500
TZOFFSETTO:-0400
TZNAME:EDT
DTSTART:20220313T070000
END:DAYLIGHT
BEGIN:STANDARD
TZOFFSETFROM:-0400
TZOFFSETTO:-0500
TZNAME:EST
DTSTART:20221106T060000
END:STANDARD
BEGIN:DAYLIGHT
TZOFFSETFROM:-0500
TZOFFSETTO:-0400
TZNAME:EDT
DTSTART:20230312T070000
END:DAYLIGHT
BEGIN:STANDARD
TZOFFSETFROM:-0400
TZOFFSETTO:-0500
TZNAME:EST
DTSTART:20231105T060000
END:STANDARD
BEGIN:DAYLIGHT
TZOFFSETFROM:-0500
TZOFFSETTO:-0400
TZNAME:EDT
DTSTART:20240310T070000
END:DAYLIGHT
BEGIN:STANDARD
TZOFFSETFROM:-0400
TZOFFSETTO:-0500
TZNAME:EST
DTSTART:20241103T060000
END:STANDARD
BEGIN:DAYLIGHT
TZOFFSETFROM:-0500
TZOFFSETTO:-0400
TZNAME:EDT
DTSTART:20250309T070000
END:DAYLIGHT
BEGIN:STANDARD
TZOFFSETFROM:-0400
TZOFFSETTO:-0500
TZNAME:EST
DTSTART:20251102T060000
END:STANDARD
END:VTIMEZONE
BEGIN:VEVENT
DTSTART;TZID=Europe/Paris:20250930T080000
DTEND;TZID=Europe/Paris:20251004T170000
DTSTAMP:20260423T102511
CREATED:20250821T194223Z
LAST-MODIFIED:20250821T200120Z
UID:4471-1759219200-1759597200@cotia.tg
SUMMARY:Deep Learning IndabaX Togo 2025 :  IA et Apprentissage Automatique pour le Bien-Être Social
DESCRIPTION:Contexte & Objectifs\nL’intelligence artificielle transforme notre monde. De la santé à l’éducation\, en passant par l’agriculture et l’énergie\, elle offre des leviers puissants pour répondre aux grands défis sociaux. \nEn Afrique\, cette dynamique s’accélère grâce à un écosystème croissant d’acteurs engagés : chercheurs\, entrepreneurs\, institutions publiques\, startups et universités. \nExemples concrets d’intégration de l’IA en Afrique : \n\nSanté : plateformes de diagnostic médical au Ghana\, gestion des patients avec Djondo (Togo)\, solutions IA pour les pharmacies avec Mpharma.\nAgriculture : outils de précision pour les agriculteurs avec Zenvus (Nigeria).\nÉducation : accès à la formation IA via IBM Digital Nation Africa (Rwanda).\nFinance : vérification d’identité par IA avec ThisIsMe (Afrique du Sud).\n\nFace à ces transformations\, la Communauté Togolaise d’Intelligence Artificielle (CoTIA) organise depuis six ans l’événement Deep Learning IndabaX Togo\, en partenariat avec le réseau africain Deep Learning Indaba. \nL’édition 2025 s’inscrit dans cette continuité\, avec un thème central :\n« Appliquer l’IA pour le bien-être social » \nNos objectifs principaux : \n\nStimuler l’inclusion sociale et l’innovation dans les entreprises\nAméliorer la gouvernance publique\nPromouvoir une culture de la donnée et de la technologie\nIdentifier les opportunités liées à l’automatisation des processus socio-économiques\nFavoriser la collaboration entre chercheurs\, institutions\, startups et autorités publiques\nRenforcer la sensibilisation des décideurs sur les bénéfices de l’IA pour le développement durable\n\nFormat & Public\nL’événement est conçu comme un espace d’échange\, de pratique et de co-construction autour de l’IA et de ses applications sociales. \nActivités proposées : \n\nSessions plénières avec des experts\nAteliers pratiques (IA\, NLP\, big data\, prompt engineering…)\nPrésentations de projets et sessions posters\nTables rondes et discussions collaboratives\nHackathon autour d’un cas pratique à fort impact social\n\nPourquoi participer ? \n\nSe former aux dernières technologies IA & Data\nRejoindre une communauté dynamique d’innovateurs africains\nS’engager pour un usage éthique et utile de l’IA en Afrique\nInspirer et être inspiré\n\nPublic visé : \n\nÉtudiants & chercheurs\nDéveloppeurs & ingénieurs data\nEntrepreneurs et porteurs de projets\nResponsables politiques et institutionnels\nONG et acteurs du développement\n\nInfos & Contribution\n\nLieu : Université de Lomé (sous réserve de confirmation)\nDates : du 30 septembre au 4 octobre 2025\nOrganisateur principal : CoTIA\nPartenaires : Deep Learning Indaba\, Universités\, Startups IA\, ONG tech\, Institutions publiques\n\nEnvie de contribuer ?\nPropose un atelier\, présente un poster\, participe au hackathon ou deviens sponsor. \nContacte-nous : contact@cotia.tg
URL:https://cotia.tg/event/deep-learning-indabax-togo-2025-ia-et-apprentissage-automatique-pour-le-bien-etre-social/
CATEGORIES:Conference
ATTACH;FMTTYPE=image/png:https://cotia.tg/wp-content/uploads/2025/04/Copie-de-Copie-de-Grey-Modern-Sports-Magazine-Cover.png
END:VEVENT
BEGIN:VEVENT
DTSTART;TZID=America/New_York:20250517T073000
DTEND;TZID=America/New_York:20250517T180000
DTSTAMP:20260423T102511
CREATED:20240719T154802Z
LAST-MODIFIED:20250821T195057Z
UID:4240-1747467000-1747504800@cotia.tg
SUMMARY:L’Intelligence Artificielle au Service de la Médecine : Un Séminaire Incontournable
DESCRIPTION:Contexte\nFace aux défis structurels du système de santé au Togo – manque de médecins\, accès inégal aux soins\, surcharge des tâches administratives –\nl’intelligence artificielle (IA) apparaît comme un levier d’innovation.\nElle peut répondre à des besoins concrets : automatisation de diagnostics\, téléconsultation\, exploitation des données sanitaires\, optimisation des décisions médicales.\nMais son intégration doit être locale\, éthique et respectueuse des contextes sociaux et culturels.\nC’est dans cette optique qu’un séminaire national a réuni professionnels de santé\, chercheurs\, développeurs\, décideurs publics et société civile. \nObjectifs\n\nPrésenter des projets concrets d’IA appliqués à la santé au Togo\nFavoriser le dialogue interdisciplinaire entre chercheurs\, praticiens\, institutions et développeurs\nIdentifier les freins techniques\, éthiques et structurels à l’adoption de ces technologies\nDéfinir les premières étapes vers une stratégie nationale d’intégration de l’IA en santé\n\nTemps forts\nOuverture officielle : mot d’accueil de CoTIA et HISP WCA\, allocutions institutionnelles et présentation du programme.\nConférence plénière : introduction pédagogique à l’IA médicale\, ses potentialités et ses enjeux éthiques. Focus sur l’importance de l’interprétabilité et de la souveraineté des données pour les pays à faibles ressources. \nProjets techniques présentés\n\nDiagnostic du cancer de la prostate : algorithmes supervisés pour la détection précoce. (PIDJARE Séverin & DJERADE-GOLBE Parfait)\nPrédiction du paludisme : modèles sur données épidémiologiques locales pour anticiper les pics. (YENDONGOU Damtoti)\nProjet OmniMed : plateforme de diagnostic assisté et téléconsultation adaptée au terrain. (Franck Adenyo)\nPlateforme BERIIA : carnet de santé numérique intégrant des modules d’IA. Testé dans des centres périphériques.\n\nPanels & discussions thématiques\n\nClimat et santé : lien entre variables climatiques et maladies infectieuses. (Jean KOUSSAWO)\nSouveraineté des données : panel animé par Djamila DILLE sur la régulation et l’alignement au RGPD adapté au Togo.\nMultilinguisme médical : prototype RAG pour recommandations médicales en langues locales. (Samuel AFOLA)\nAutomatisation DHIS2 : amélioration de l’analyse des données de santé. (Caleb ADOLGI)\n\nRésultats clés\n\nValorisation des talents locaux capables de développer des solutions IA adaptées au système de santé togolais\nMise en lumière de projets suffisamment matures pour des tests pilotes\nPrise de conscience de la nécessité d’un cadre éthique\, réglementaire et technique\nProposition de création d’un groupe de travail pour structurer la suite des actions
URL:https://cotia.tg/event/lintelligence-artificielle-au-service-de-la-medecine/
CATEGORIES:Conference
ATTACH;FMTTYPE=image/png:https://cotia.tg/wp-content/uploads/2024/07/SEMINAIRE-LINTELLIGENCE-ARTIFICIELLE-AU-SERVICE-DE-LA-SANTE.png
END:VEVENT
BEGIN:VEVENT
DTSTART;TZID=America/New_York:20241107T073000
DTEND;TZID=America/New_York:20241109T190000
DTSTAMP:20260423T102511
CREATED:20210603T032650Z
LAST-MODIFIED:20250821T194659Z
UID:1038-1730964600-1731178800@cotia.tg
SUMMARY:IndabaX Togo 2024 : Autour de l'Intelligence Artificielle (IA)
DESCRIPTION:IndabaX Togo 2024 : Autour de l’Intelligence Artificielle (IA)\nDu 14 au 16 novembre 2024\, l’hôtel Sarakawa a accueilli la cinquième édition de l’IndabaX Togo\, une initiative portée par la Communauté Togolaise d’Intelligence Artificielle (CoTIA).\nOrganisé avec le soutien du Ministère de l’Économie Numérique et de la Transformation Digitale (via l’Agence Togo Digital)\, de ProDigiT/GIZ Togo\, des universités partenaires et d’acteurs privés\,\nl’événement a réuni chercheurs\, ingénieurs\, startups\, institutions publiques\, ONG et étudiants autour d’un objectif commun : bâtir une IA au service du développement durable\, de l’autonomie technologique et de l’innovation locale. \nContexte & Ambition\nL’édition 2024 s’est articulée autour d’un triptyque stratégique : \n\nDonnées : matière première du XXIe siècle\, levier de connaissance et de souveraineté\nTechnologie : concevoir des solutions locales robustes et accessibles\nCommunauté : faire émerger une intelligence collective au croisement du public\, du privé et de la société civile\n\nDans un contexte africain où l’intelligence artificielle est souvent importée comme un produit fini\, IndabaX Togo 2024 a cherché à inverser la logique : co-construire une IA “faite ici”\, pertinente\, éthique et souveraine. \nTemps forts\nJour 1 – Stratégie et gouvernance\nOuverture institutionnelle et diplomatique avec la présence des ambassadeurs\, du Ministère et de la GIZ. Présentation des stratégies IA de Singapour\, Rwanda et Ghana\, suivie d’une session sur la cybersécurité appliquée à l’IA.\nUn atelier participatif animé par Yolanda Lannquist a posé les bases de la stratégie nationale d’IA du Togo\, avec l’appui du Global Center on AI Governance. \nJour 2 – Innovations locales et formation\nMise en lumière de projets togolais : YodiV2 (modèle de langue locale)\, IA multimodale biométrique de Tootle\, atelier immersif MOSAIKS sur les données satellitaires.\nPrésentation de recherches et d’applications pratiques\, dont la modélisation de matériaux thermoélectriques\, l’IA pour neuf secteurs clés\, et une mise en avant des inventeurs africains. \nJour 3 – Données\, entreprises et transmission\nPlénière avec Dr. Barkawi Mansour sur l’usage combiné des données géospatiales et de l’IA contre les épidémies.\nSéquence Tech Lives Series avec Togo Digital\, Togocom et les gagnants du challenge Zindi.\nMini-foire de posters et ateliers techniques (Machine Learning appliqué à la biologie\, PyTorch Workflow Fundamentals).\nClôture conviviale avec bilan partagé et photo de groupe. \nRésultats clés\n\nLancement de l’élaboration participative de la stratégie nationale d’IA du Togo\, réunissant experts nationaux et internationaux.\nValorisation des talents locaux à travers des projets concrets et visibles : YodiV2\, modèles biométriques\, initiatives Zindi.\nTransfert de connaissances via des workshops techniques (MOSAIKS\, ML appliqué\, PyTorch) animés par des intervenants d’Afrique\, d’Europe et de Berkeley.\nRenforcement du lien entre gouvernance\, recherche et société civile\, avec une participation active de tous les acteurs aux débats et décisions.
URL:https://cotia.tg/event/indaba-x-togo-2024-lintelligence-artificielle-au-service-du-developpement-durable/
LOCATION:Hôtel SARAKAWA\, Lomé - TOGO\, Lomé\, Togo
CATEGORIES:Conference
ATTACH;FMTTYPE=image/jpeg:https://cotia.tg/wp-content/uploads/2021/06/1733308024803.jpeg
END:VEVENT
BEGIN:VEVENT
DTSTART;TZID=Europe/Paris:20231214T080000
DTEND;TZID=Europe/Paris:20231216T170000
DTSTAMP:20260423T102512
CREATED:20250821T194829Z
LAST-MODIFIED:20250821T194829Z
UID:4477-1702540800-1702746000@cotia.tg
SUMMARY:IndabaX Togo 2023 : La data comme levier pour des décisions éclairées
DESCRIPTION:IndabaX Togo 2023 : La data comme levier pour des décisions éclairées\nDu 14 au 16 décembre 2023\, le Centre de Recherche sur le Changement Climatique (CERSA) de l’Université de Lomé\, ainsi que plusieurs sites associés (Université de Kara\, UCAO\, IAI-Togo\, IPNET)\,\na accueilli la troisième édition de l’IndabaX Togo.\nCet événement\, soutenu par la Communauté Togolaise d’Intelligence Artificielle (CoTIA)\, a réuni près de 300 participants autour du thème : \n« La Data\, une mine d’or pour aider à la prise de décisions éclairées » \nContexte & Ambitions\nL’édition 2023 a visé à : \n\nRenforcer les compétences locales en data science\, intelligence artificielle et machine learning\nMettre en avant des cas d’usage concrets pour le secteur public\, privé et la recherche locale\nFavoriser l’échange entre chercheurs\, étudiants\, startups et institutions partenaires\nEncourager le développement d’outils adaptés aux besoins togolais via des hackathons et sessions pratiques\n\nTemps forts\nJour 1 – Lancement et premières pratiques\nCérémonie d’ouverture officielle\, présentation de la communauté CoTIA et de la plateforme Zindi\,\nplénière introductive sur l’importance des données\, suivie d’ateliers pratiques : visualisation avec Tableau\, web scraping en Python\, analyse de données COVID-19. \nJour 2 – Cas d’usage & formations\nSéminaires autour de la prévision des inondations au Togo\, détection précoce du paludisme\, prédiction de l’état des patients\, détection sonore d’incidents\, et exploration de packages R avancés.\nL’après-midi\, ateliers sur la réduction de dimension et l’usage de l’IA pour des stratégies d’investissement. \nJour 3 – Innovation locale et clôture\nPrésentation de projets appliqués : apps mobiles avec LLM + Flutter\, détection de fraude\, contrôle quantique par RL\, radiomique clinique\, classification de plantes\, prédiction cardiovasculaire\, outil de traduction en éwé.\nLa journée s’est terminée par un hackathon\, une table ronde et un mot de clôture accompagné d’une photo de groupe. \nRésultats & Impacts\n\nConstitution d’une communauté technique active d’environ 300 participants autour de l’IA au Togo\nRenforcement des compétences grâce à des ateliers pratiques (visualisation de données\, web scraping\, ML appliqué)\nMise en valeur de projets innovants pour la santé\, la mobilité\, la traduction\, l’énergie et la lutte contre la fraude\nCréation d’espaces de collaboration entre jeunes talents\, chercheurs\, startups et institutions\nPromotion d’outils Open Source et de plateformes comme Zindi\, favorisant une IA adaptée aux contextes africains
URL:https://cotia.tg/event/indabax-togo-2023-la-data-comme-levier-pour-des-decisions-eclairees/
LOCATION:Université de Lomé\, Togo
END:VEVENT
BEGIN:VEVENT
DTSTART;TZID=America/New_York:20211216T140000
DTEND;TZID=America/New_York:20211218T190000
DTSTAMP:20260423T102512
CREATED:20240719T154459Z
LAST-MODIFIED:20250404T230709Z
UID:4237-1639663200-1639854000@cotia.tg
SUMMARY:Indaba X Togo 2021 : Une Immersion dans l’Intelligence Artificielle
DESCRIPTION:Du 16 au 18 décembre 2021\, le Togo a accueilli la deuxième édition d’IndabaX Togo\, un événement hybride réunissant experts\, passionnés et utilisateurs d’intelligence artificielle (IA). Voici les points clés qui ont marqué ces trois jours d’échanges et de découvertes. \nUn Format Hybride pour Rassembler Tous les Passionnés\nL’édition 2021 a innové en combinant des sessions en présentiel et en ligne. En tout\, 253 participants se sont connectés via Zoom et Facebook ou ont rejoint les sites partenaires situés à l’Université de Lomé\, à l’Université de Kara et à l’Institut Africain d’Informatique – Togo. Ce mode de fonctionnement a permis à chacun de profiter des formations et des conférences\, quel que soit son lieu de présence. \nUn Programme Dynamique et Diversifié\nL’événement s’est articulé autour de deux temps forts : \nLes Formations en Python\n\n\nPython Day 1 : Une introduction aux bases de Python animée par le Dr APEKE Kodjo Sena. \n\n\nPython Day 2 : Des sessions dédiées au calcul numérique\, symbolique et au machine learning\, présentées par le Dr Kossi Ayena. \n\n\nCes formations ont permis aux participants de renforcer leurs compétences techniques\, essentielles pour aborder des projets d’IA. \nLa Journée de l’Apothéose\nLa dernière journée a débuté par une cérémonie d’ouverture et une conférence sur le thème « Intelligence artificielle : Un levier pour l’économie togolaise et africaine ? » également présentée par le Dr APEKE Sena. Par la suite\, plusieurs séminaires ont abordé des sujets variés tels que : \n\n\nLa recommandation vidéo par machine de Boltzmann\, \n\n\nL’IA appliquée à la prévision météorologique\, \n\n\nLes mathématiques et le deep learning. \n\n\nAprès une pause conviviale\, des projets innovants de la communauté ont été démontrés\, notamment en sentiment analysis\, en lecture de documents par OCR et en création de knowledge graphs. La journée s’est conclue par d’autres séminaires portant sur la sécurité des objets connectés\, les applications du machine learning dans les réseaux optiques et la prédiction du comportement d’achat. Une table ronde a également permis de débattre de l’impact de l’IA dans l’éducation\, en particulier dans les contextes où les financements publics sont limités. \nDes Partenariats Solides et une Organisation Exemplaire\nLe succès de cette édition repose sur la collaboration étroite entre plusieurs partenaires : \n\n\nDeep Learning INDABA \n\n\nBERIIA \n\n\nUniversité de Lomé\, Université de Kara\, UCAO\, IAI et IPNet Expert Institute of Technology \n\n\nDe plus\, les équipes d’organisation – logistique\, restauration\, communication\, comité technique et comité scientifique – ont assuré le bon déroulement de l’événement\, permettant ainsi une expérience enrichissante pour tous. \nVers l’Avenir : Rendez-vous en 2022\nIndabaX Togo 2021 a non seulement renforcé les compétences des participants en IA\, mais a également ouvert la voie à de nouvelles perspectives pour le développement technologique et économique en Afrique. Forts de ce succès\, les organisateurs annoncent déjà la prochaine édition\, IndabaX Togo 2022.
URL:https://cotia.tg/event/indaba-x-togo-2021-une-immersion-dans-lintelligence-artificielle/
LOCATION:Université de Lomé\, Togo
CATEGORIES:Conference
ATTACH;FMTTYPE=image/png:https://cotia.tg/wp-content/uploads/2024/07/ChatGPT-Image-4-avr.-2025-21_22_37.png
END:VEVENT
END:VCALENDAR